BEGIN:VCALENDAR
VERSION:2.0
PRODID:Projeto
X-WR-CALNAME:Projeto
X-WR-TIMEZONE:Europe/Lisbon
X-PUBLISHED-TTL:P1W
BEGIN:VTIMEZONE
TZID:Europe/Lisbon
X-LIC-LOCATION:Europe/Lisbon
END:VTIMEZONE
BEGIN:VEVENT
UID:69e4f716db783
DTSTART;VALUE=DATE:20240523
SEQUENCE:0
TRANSP:OPAQUE
DTEND;VALUE=DATE:20240524
SUMMARY:Projeto
CLASS:PUBLIC
DESCRIPTION:Abertura da exposição uma forma diferente de apreciar as más
 caras de Lazarim. Um novo desafio\, a mesma genuinidade. Visite na Travess
 a do Rosário N. 16\, Lisboa.
X-MICROSOFT-CDO-ALLDAYEVENT:TRUE
DTSTAMP:20260419T153902Z
END:VEVENT
END:VCALENDAR