BEGIN:VCALENDAR
VERSION:2.0
PRODID:Entrudo de Lazarim 2026
X-WR-CALNAME:Entrudo de Lazarim 2026
X-WR-TIMEZONE:Europe/Lisbon
X-PUBLISHED-TTL:P1W
BEGIN:VTIMEZONE
TZID:Europe/Lisbon
X-LIC-LOCATION:Europe/Lisbon
END:VTIMEZONE
BEGIN:VEVENT
UID:69e4f8bc1020a
DTSTART;VALUE=DATE:20250210
SEQUENCE:0
TRANSP:OPAQUE
DTEND;VALUE=DATE:20250211
SUMMARY:Entrudo de Lazarim 2026
CLASS:PUBLIC
DESCRIPTION:Aqui Estou!!!
X-MICROSOFT-CDO-ALLDAYEVENT:TRUE
DTSTAMP:20260419T154604Z
END:VEVENT
END:VCALENDAR