BEGIN:VCALENDAR
VERSION:2.0
PRODID:Entrudo 2025
X-WR-CALNAME:Entrudo 2025
X-WR-TIMEZONE:Europe/Lisbon
X-PUBLISHED-TTL:P1W
BEGIN:VTIMEZONE
TZID:Europe/Lisbon
X-LIC-LOCATION:Europe/Lisbon
END:VTIMEZONE
BEGIN:VEVENT
UID:69e4cb4e575db
DTSTART;VALUE=DATE:20250301
SEQUENCE:0
TRANSP:OPAQUE
DTEND;VALUE=DATE:20250302
SUMMARY:Entrudo 2025
CLASS:PUBLIC
DESCRIPTION:Eles Estão a Voltar!!!
X-MICROSOFT-CDO-ALLDAYEVENT:TRUE
DTSTAMP:20260419T123214Z
END:VEVENT
END:VCALENDAR